BEGIN:VCALENDAR
VERSION:2.0
PRODID:-//Van Wilgen&#039;s Garden Center - ECPv6.15.20//NONSGML v1.0//EN
CALSCALE:GREGORIAN
METHOD:PUBLISH
X-WR-CALNAME:Van Wilgen&#039;s Garden Center
X-ORIGINAL-URL:https://www.vanwilgens.com
X-WR-CALDESC:Events for Van Wilgen&#039;s Garden Center
REFRESH-INTERVAL;VALUE=DURATION:PT1H
X-Robots-Tag:noindex
X-PUBLISHED-TTL:PT1H
BEGIN:VTIMEZONE
TZID:America/New_York
BEGIN:DAYLIGHT
TZOFFSETFROM:-0500
TZOFFSETTO:-0400
TZNAME:EDT
DTSTART:20250309T070000
END:DAYLIGHT
BEGIN:STANDARD
TZOFFSETFROM:-0400
TZOFFSETTO:-0500
TZNAME:EST
DTSTART:20251102T060000
END:STANDARD
BEGIN:DAYLIGHT
TZOFFSETFROM:-0500
TZOFFSETTO:-0400
TZNAME:EDT
DTSTART:20260308T070000
END:DAYLIGHT
BEGIN:STANDARD
TZOFFSETFROM:-0400
TZOFFSETTO:-0500
TZNAME:EST
DTSTART:20261101T060000
END:STANDARD
BEGIN:DAYLIGHT
TZOFFSETFROM:-0500
TZOFFSETTO:-0400
TZNAME:EDT
DTSTART:20270314T070000
END:DAYLIGHT
BEGIN:STANDARD
TZOFFSETFROM:-0400
TZOFFSETTO:-0500
TZNAME:EST
DTSTART:20271107T060000
END:STANDARD
END:VTIMEZONE
BEGIN:VEVENT
DTSTART;VALUE=DATE:20260119
DTEND;VALUE=DATE:20260302
DTSTAMP:20260419T131025
CREATED:20260119T135730Z
LAST-MODIFIED:20260129T201745Z
UID:20812-1768780800-1772409599@www.vanwilgens.com
SUMMARY:Wild Winter Sale
DESCRIPTION:Stock up and save on wild bird food with these exclusive winter deals! \nBlack Oil Sunflower Seed 40lb: $19.99 $25.99 \nArmstrong All Season Blend 40lb: $19.99 $24.99 \nHigh Energy Suet Plus 10pk: $12.99 $18.99 \n20lb Tank Propane Refills: $12.99 $19.99
URL:https://www.vanwilgens.com/event/wild-winter-sale/
CATEGORIES:Sales
ATTACH;FMTTYPE=image/jpeg:https://www.vanwilgens.com/wp-content/uploads/2026/01/wild-winter-sale-eventimg.jpg
END:VEVENT
END:VCALENDAR