BEGIN:VCALENDAR
VERSION:2.0
PRODID:-//Van Wilgen&#039;s Garden Center - ECPv6.15.20//NONSGML v1.0//EN
CALSCALE:GREGORIAN
METHOD:PUBLISH
X-WR-CALNAME:Van Wilgen&#039;s Garden Center
X-ORIGINAL-URL:https://www.vanwilgens.com
X-WR-CALDESC:Events for Van Wilgen&#039;s Garden Center
REFRESH-INTERVAL;VALUE=DURATION:PT1H
X-Robots-Tag:noindex
X-PUBLISHED-TTL:PT1H
BEGIN:VTIMEZONE
TZID:America/New_York
BEGIN:DAYLIGHT
TZOFFSETFROM:-0500
TZOFFSETTO:-0400
TZNAME:EDT
DTSTART:20220313T070000
END:DAYLIGHT
BEGIN:STANDARD
TZOFFSETFROM:-0400
TZOFFSETTO:-0500
TZNAME:EST
DTSTART:20221106T060000
END:STANDARD
BEGIN:DAYLIGHT
TZOFFSETFROM:-0500
TZOFFSETTO:-0400
TZNAME:EDT
DTSTART:20230312T070000
END:DAYLIGHT
BEGIN:STANDARD
TZOFFSETFROM:-0400
TZOFFSETTO:-0500
TZNAME:EST
DTSTART:20231105T060000
END:STANDARD
BEGIN:DAYLIGHT
TZOFFSETFROM:-0500
TZOFFSETTO:-0400
TZNAME:EDT
DTSTART:20240310T070000
END:DAYLIGHT
BEGIN:STANDARD
TZOFFSETFROM:-0400
TZOFFSETTO:-0500
TZNAME:EST
DTSTART:20241103T060000
END:STANDARD
END:VTIMEZONE
BEGIN:VEVENT
DTSTART;VALUE=DATE:20230710
DTEND;VALUE=DATE:20230724
DTSTAMP:20260420T053421
CREATED:20230710T151706Z
LAST-MODIFIED:20230711T141807Z
UID:16488-1688947200-1690156799@www.vanwilgens.com
SUMMARY:Plant of the Week Sale
DESCRIPTION:Pollinator Paradise\nPlant of the Week sales are back! We are extending last month’s national pollinator appreciation by offering discounts on some of our top-selling plants that are sure to attract your local bees\, butterflies\, birds… or even all three. From July 10th to July 23rd\, take $2 off Super Bloom Annual Zinnias\, $3 off Echinacea\, and $10 off Butterfly Bush!
URL:https://www.vanwilgens.com/event/potw-pollinator-paradise/
CATEGORIES:Sales
ATTACH;FMTTYPE=image/jpeg:https://www.vanwilgens.com/wp-content/uploads/2023/07/POTW-event-e1689002997573.jpg
END:VEVENT
BEGIN:VEVENT
DTSTART;VALUE=DATE:20230501
DTEND;VALUE=DATE:20230601
DTSTAMP:20260420T053421
CREATED:20230403T155153Z
LAST-MODIFIED:20230501T153419Z
UID:15862-1682899200-1685577599@www.vanwilgens.com
SUMMARY:May Round-Up
DESCRIPTION:May Round-Up\nTogether\, we can change our communities. For the month of May\, Van Wilgen’s Garden Centers will be matching customer “loose change” donations to benefit the community foundations that service each of our location towns. From pocket change to rounding up to the nearest dollar at check-out\, we will match donations\, penny-for-penny (or nickel\, or quarter…you get the idea) to help change our communities. Thank you for joining us in making change\, possible.\n– Bill\, Ryan and the entire Van Wilgen family \nCommunity Foundations:\nNorth Branford: https://www.branfordcommunityfoundation.org/about-bcf/\nClinton: https://middlesexcountycf.org/about/\nGuilford: https://www.guilfordfoundation.org/\nMilford: http://wellspringcommunitycenter.org/\nOld Saybrook: https://middlesexcountycf.org/about/
URL:https://www.vanwilgens.com/event/may-round-up/
CATEGORIES:Charity
ATTACH;FMTTYPE=image/jpeg:https://www.vanwilgens.com/wp-content/uploads/2023/04/round-up.jpg
END:VEVENT
BEGIN:VEVENT
DTSTART;TZID=America/New_York:20230402T110000
DTEND;TZID=America/New_York:20230402T130000
DTSTAMP:20260420T053421
CREATED:20230327T033350Z
LAST-MODIFIED:20230327T033350Z
UID:15768-1680433200-1680440400@www.vanwilgens.com
SUMMARY:Easter Bunny
DESCRIPTION:Visit with the easter bunny\, take a photo\, and get a sweet treat.  The easter bunny will be here on Saturday the 1st  and Sunday the 2nd from 11-1.  This is way better than the pushing\, shoving and 30 seconds of mayhem.  Someone is always upset at the easter egg hunt\, and someone always goes early!  Looking at my kids… I can tell you which one will be the one going early\, and which one is upset!  We have you covered with a small bag of easter candy and a solo photo with the most famous bunny of all.  Darlene and the greenhouse team have the place looking good with lots of traditional easter flowers and some not so traditional easter flowers.  Easter is always a moving holiday\, and it is hard for us!  Dad I know… we will have all the traditional things too! Daffs\, Tulips\, hyacinth\, lilies\, etc.…. man\, never mess with the Dutch guy’s bulbs.
URL:https://www.vanwilgens.com/event/easter-bunny-2/
LOCATION:Van Wilgen’s Garden Center\, 51 Valley Rd\, North Branford\, CT\, 06471\, United States
CATEGORIES:Holiday
ATTACH;FMTTYPE=image/png:https://www.vanwilgens.com/wp-content/uploads/2023/03/easter-bunny.png
END:VEVENT
BEGIN:VEVENT
DTSTART;TZID=America/New_York:20230401T110000
DTEND;TZID=America/New_York:20230401T130000
DTSTAMP:20260420T053421
CREATED:20230327T033201Z
LAST-MODIFIED:20230327T033201Z
UID:15765-1680346800-1680354000@www.vanwilgens.com
SUMMARY:Easter Bunny
DESCRIPTION:Visit with the easter bunny\, take a photo\, and get a sweet treat.  The easter bunny will be here on Saturday the 1st  and Sunday the 2nd from 11-1.  This is way better than the pushing\, shoving and 30 seconds of mayhem.  Someone is always upset at the easter egg hunt\, and someone always goes early!  Looking at my kids… I can tell you which one will be the one going early\, and which one is upset!  We have you covered with a small bag of easter candy and a solo photo with the most famous bunny of all.  Darlene and the greenhouse team have the place looking good with lots of traditional easter flowers and some not so traditional easter flowers.  Easter is always a moving holiday\, and it is hard for us!  Dad I know… we will have all the traditional things too! Daffs\, Tulips\, hyacinth\, lilies\, etc.…. man\, never mess with the Dutch guy’s bulbs.
URL:https://www.vanwilgens.com/event/easter-bunny/
LOCATION:Van Wilgen’s Garden Center\, 51 Valley Rd\, North Branford\, CT\, 06471\, United States
CATEGORIES:Holiday
ATTACH;FMTTYPE=image/png:https://www.vanwilgens.com/wp-content/uploads/2023/03/easter-bunny.png
END:VEVENT
END:VCALENDAR